BEGIN:VCALENDAR
VERSION:2.0
PRODID:-//coworking.ch - ECPv6.15.17.1//NONSGML v1.0//EN
CALSCALE:GREGORIAN
METHOD:PUBLISH
X-ORIGINAL-URL:https://events.coworking.ch/?lang=de
X-WR-CALDESC:Veranstaltungen für coworking.ch
REFRESH-INTERVAL;VALUE=DURATION:PT1H
X-Robots-Tag:noindex
X-PUBLISHED-TTL:PT1H
BEGIN:VTIMEZONE
TZID:Europe/Zurich
BEGIN:DAYLIGHT
TZOFFSETFROM:+0100
TZOFFSETTO:+0200
TZNAME:CEST
DTSTART:20170326T010000
END:DAYLIGHT
BEGIN:STANDARD
TZOFFSETFROM:+0200
TZOFFSETTO:+0100
TZNAME:CET
DTSTART:20171029T010000
END:STANDARD
BEGIN:DAYLIGHT
TZOFFSETFROM:+0100
TZOFFSETTO:+0200
TZNAME:CEST
DTSTART:20180325T010000
END:DAYLIGHT
BEGIN:STANDARD
TZOFFSETFROM:+0200
TZOFFSETTO:+0100
TZNAME:CET
DTSTART:20181028T010000
END:STANDARD
BEGIN:DAYLIGHT
TZOFFSETFROM:+0100
TZOFFSETTO:+0200
TZNAME:CEST
DTSTART:20190331T010000
END:DAYLIGHT
BEGIN:STANDARD
TZOFFSETFROM:+0200
TZOFFSETTO:+0100
TZNAME:CET
DTSTART:20191027T010000
END:STANDARD
END:VTIMEZONE
BEGIN:VEVENT
DTSTART;TZID=Europe/Zurich:20180321T110000
DTEND;TZID=Europe/Zurich:20180321T140000
DTSTAMP:20260423T030623
CREATED:20180222T103325Z
LAST-MODIFIED:20180222T105855Z
UID:10000024-1521630000-1521640800@events.coworking.ch
SUMMARY:REGIONAL MEETUP - VEVEY
DESCRIPTION:The regional meetup of Coworking Switzerland\,
URL:https://events.coworking.ch/event/regional-meetup-vevey/?lang=de
LOCATION:TheWorkHub\, Chemin de l' Oyonne 1\, Vevey\, 1800\, Switzerland
ATTACH;FMTTYPE=image/jpeg:https://events.coworking.ch/wp-content/uploads/2018/02/vevey_invitation.jpg
GEO:46.4650192;6.8378032
X-APPLE-STRUCTURED-LOCATION;VALUE=URI;X-ADDRESS=TheWorkHub Chemin de l' Oyonne 1 Vevey 1800 Switzerland;X-APPLE-RADIUS=500;X-TITLE=Chemin de l' Oyonne 1:geo:6.8378032,46.4650192
END:VEVENT
BEGIN:VEVENT
DTSTART;TZID=Europe/Zurich:20180322T080000
DTEND;TZID=Europe/Zurich:20180322T110000
DTSTAMP:20260423T030623
CREATED:20180222T113019Z
LAST-MODIFIED:20180222T133003Z
UID:10000025-1521705600-1521716400@events.coworking.ch
SUMMARY:REGIONAL MEETUP - AARAU
DESCRIPTION:The regional meetup of Coworking Switzerland with your local community.
URL:https://events.coworking.ch/event/regional-meetup-aarau/?lang=de
LOCATION:Popup Work\, Rathausgasse 6/8\, Aarau\, 5000\, Switzerland
ATTACH;FMTTYPE=image/jpeg:https://events.coworking.ch/wp-content/uploads/2018/02/aarau_invitation.jpg
GEO:47.3929896;8.0433245
X-APPLE-STRUCTURED-LOCATION;VALUE=URI;X-ADDRESS=Popup Work Rathausgasse 6/8 Aarau 5000 Switzerland;X-APPLE-RADIUS=500;X-TITLE=Rathausgasse 6/8:geo:8.0433245,47.3929896
END:VEVENT
END:VCALENDAR