BEGIN:VCALENDAR
VERSION:2.0
PRODID:-//coworking.ch - ECPv6.15.17.1//NONSGML v1.0//EN
CALSCALE:GREGORIAN
METHOD:PUBLISH
X-WR-CALNAME:coworking.ch
X-ORIGINAL-URL:https://events.coworking.ch
X-WR-CALDESC:Events for coworking.ch
REFRESH-INTERVAL;VALUE=DURATION:PT1H
X-Robots-Tag:noindex
X-PUBLISHED-TTL:PT1H
BEGIN:VTIMEZONE
TZID:Europe/Zurich
BEGIN:DAYLIGHT
TZOFFSETFROM:+0100
TZOFFSETTO:+0200
TZNAME:CEST
DTSTART:20180325T010000
END:DAYLIGHT
BEGIN:STANDARD
TZOFFSETFROM:+0200
TZOFFSETTO:+0100
TZNAME:CET
DTSTART:20181028T010000
END:STANDARD
BEGIN:DAYLIGHT
TZOFFSETFROM:+0100
TZOFFSETTO:+0200
TZNAME:CEST
DTSTART:20190331T010000
END:DAYLIGHT
BEGIN:STANDARD
TZOFFSETFROM:+0200
TZOFFSETTO:+0100
TZNAME:CET
DTSTART:20191027T010000
END:STANDARD
BEGIN:DAYLIGHT
TZOFFSETFROM:+0100
TZOFFSETTO:+0200
TZNAME:CEST
DTSTART:20200329T010000
END:DAYLIGHT
BEGIN:STANDARD
TZOFFSETFROM:+0200
TZOFFSETTO:+0100
TZNAME:CET
DTSTART:20201025T010000
END:STANDARD
END:VTIMEZONE
BEGIN:VEVENT
DTSTART;TZID=Europe/Zurich:20190321T100000
DTEND;TZID=Europe/Zurich:20190321T160000
DTSTAMP:20260424T154334
CREATED:20190113T102133Z
LAST-MODIFIED:20190220T090829Z
UID:10000036-1553162400-1553184000@events.coworking.ch
SUMMARY:ANNUAL MEETUP 2019
DESCRIPTION:SAVE THE DATE MARCH 21\, 2019 \n09:30  Arrival and Coffee\n10:00  Welcome note by Jenny & Team from Uferbau\n10:15  Icebreaker / “Speed Dating”\n11:15  Updates & News\n11:45  General Assembly\n12:30  Lunch & Networking\n14:30  World Café (5 topics in parallel)\n15:15  Wrap-ups and next steps\n16:00  Farewell drinks \nFor Coworking Switzerland members (1 representative per member)\, participation including welcome coffee and lunch is free of charge. However\, registration is required and binding. If you cannot make it to the Annual Meetup\, please cancel at least 48 hrs in advance (no-show fee CHF 30\, plus eternal condemnation for food waste 😉 \nWe also warmly welcome non-members and additional representatives from member spaces. The participation fee of CHF 30 includes welcome coffee and lunch. If you think that the Meetup is a good reason to join our association\, we are looking forward to your application here.
URL:https://events.coworking.ch/event/annual-meetup-2019/
LOCATION:Coworking Uferbau\, Ritterquai 8\, Solothurn\, 4500\, Switzerland
CATEGORIES:coworking,Coworking Switzerland Events
ATTACH;FMTTYPE=image/jpeg:https://events.coworking.ch/wp-content/uploads/2019/01/savethedate_invitation.jpg
GEO:47.2070353;7.539561
X-APPLE-STRUCTURED-LOCATION;VALUE=URI;X-ADDRESS=Coworking Uferbau Ritterquai 8 Solothurn 4500 Switzerland;X-APPLE-RADIUS=500;X-TITLE=Ritterquai 8:geo:7.539561,47.2070353
END:VEVENT
END:VCALENDAR