BEGIN:VCALENDAR
VERSION:2.0
PRODID:-//coworking.ch - ECPv6.15.17.1//NONSGML v1.0//EN
CALSCALE:GREGORIAN
METHOD:PUBLISH
X-WR-CALNAME:coworking.ch
X-ORIGINAL-URL:https://events.coworking.ch
X-WR-CALDESC:Events for coworking.ch
REFRESH-INTERVAL;VALUE=DURATION:PT1H
X-Robots-Tag:noindex
X-PUBLISHED-TTL:PT1H
BEGIN:VTIMEZONE
TZID:Europe/Zurich
BEGIN:DAYLIGHT
TZOFFSETFROM:+0100
TZOFFSETTO:+0200
TZNAME:CEST
DTSTART:20180325T010000
END:DAYLIGHT
BEGIN:STANDARD
TZOFFSETFROM:+0200
TZOFFSETTO:+0100
TZNAME:CET
DTSTART:20181028T010000
END:STANDARD
BEGIN:DAYLIGHT
TZOFFSETFROM:+0100
TZOFFSETTO:+0200
TZNAME:CEST
DTSTART:20190331T010000
END:DAYLIGHT
BEGIN:STANDARD
TZOFFSETFROM:+0200
TZOFFSETTO:+0100
TZNAME:CET
DTSTART:20191027T010000
END:STANDARD
BEGIN:DAYLIGHT
TZOFFSETFROM:+0100
TZOFFSETTO:+0200
TZNAME:CEST
DTSTART:20200329T010000
END:DAYLIGHT
BEGIN:STANDARD
TZOFFSETFROM:+0200
TZOFFSETTO:+0100
TZNAME:CET
DTSTART:20201025T010000
END:STANDARD
END:VTIMEZONE
BEGIN:VEVENT
DTSTART;TZID=Europe/Zurich:20191114T120000
DTEND;TZID=Europe/Zurich:20191114T140000
DTSTAMP:20260422T230302
CREATED:20191015T063241Z
LAST-MODIFIED:20191015T063519Z
UID:10000045-1573732800-1573740000@events.coworking.ch
SUMMARY:Regional meetup - Lunch des Romands
DESCRIPTION:La rencontre regionale de Coworking Switzerland. Ouverte à toutes et à tous\, venez le temps d’un lunch rencontrer les membres de l’association. On débriefera les derniers résultats de l’étude de Deskmag et on avancera sur le toolkit pour les espaces de coworking. \nLa participation est gratuite pour les membres de coworking switzerland (1 représentant par espace/membre associé)\, 20CHF pour tout membre additionnel ou non-membre (à payer à l’hôte sur place). RSVP ici!
URL:https://events.coworking.ch/event/regional-meetup-lunch-des-romands/
LOCATION:blueLab Coworking\, Avenue de Grandson 48\, Yverdon-les-Bains\, 1400\, Switzerland
CATEGORIES:Coworking Switzerland Events,Regional Meetups
ATTACH;FMTTYPE=image/png:https://events.coworking.ch/wp-content/uploads/2019/10/lunch-des-romands.png
GEO:46.7880936;6.6309683
X-APPLE-STRUCTURED-LOCATION;VALUE=URI;X-ADDRESS=blueLab Coworking Avenue de Grandson 48 Yverdon-les-Bains 1400 Switzerland;X-APPLE-RADIUS=500;X-TITLE=Avenue de Grandson 48:geo:6.6309683,46.7880936
END:VEVENT
END:VCALENDAR